BEGIN:VCALENDAR
VERSION:2.0
PRODID:-//Competition &amp; Innovation Lab - ECPv6.15.15//NONSGML v1.0//EN
CALSCALE:GREGORIAN
METHOD:PUBLISH
X-ORIGINAL-URL:https://competitioninnovationlab.ai
X-WR-CALDESC:Events for Competition &amp; Innovation Lab
REFRESH-INTERVAL;VALUE=DURATION:PT1H
X-Robots-Tag:noindex
X-PUBLISHED-TTL:PT1H
BEGIN:VTIMEZONE
TZID:UTC
BEGIN:STANDARD
TZOFFSETFROM:+0000
TZOFFSETTO:+0000
TZNAME:UTC
DTSTART:20240101T000000
END:STANDARD
END:VTIMEZONE
BEGIN:VEVENT
DTSTART;TZID=UTC:20250415T100000
DTEND;TZID=UTC:20250415T110000
DTSTAMP:20260421T233118
CREATED:20260106T064135Z
LAST-MODIFIED:20260113T033935Z
UID:3240-1744711200-1744714800@competitioninnovationlab.ai
SUMMARY:Illuminating the Evolving Contours of Merger Control in Türkiye
DESCRIPTION:As Türkiye continues to refine its approach to merger control\, businesses and legal practitioners must navigate an increasingly complex regulatory landscape. This expert-led webinar explores key developments shaping merger control enforcement in Türkiye\, from sector-specific exceptions to compliance risks and procedural intricacies. \n			\n				\n				\n				\n				\n				\n				\n			\n				\n				\n				\n				\n				Key Discussion Topics:🔹 Technology Undertaking Exception🔹 Gun-Jumping & Premature Information Sharing🔹 Merger Review Timeline & Tacit Approval \nPanelists: \nBahadir Balki\, Managing Partner\, ACTECON \nTuna Tanik\, Principal Associate\, Freshfields LLP \nEsin Aygun\, Turkish Competition Authority (TCA) \nModerator: Hanna Stakheyeva\, GWCIL TR Initiative \nThe session will conclude with a Q&A segment\, allowing attendees to engage directly with panelists.
URL:https://competitioninnovationlab.ai/event/illuminating-the-evolving-contours-of-merger-control-in-turkiye/
LOCATION:University Student Center\, 800 21st Street\, NW\, Room 405\, NW\, 20052\, United States
ATTACH;FMTTYPE=image/jpeg:https://competitioninnovationlab.ai/wp-content/uploads/2026/01/tt_copy.jpg
END:VEVENT
END:VCALENDAR