BEGIN:VCALENDAR
VERSION:2.0
PRODID:-//Competition &amp; Innovation Lab - ECPv6.15.15//NONSGML v1.0//EN
CALSCALE:GREGORIAN
METHOD:PUBLISH
X-WR-CALNAME:Competition &amp; Innovation Lab
X-ORIGINAL-URL:https://competitioninnovationlab.ai
X-WR-CALDESC:Events for Competition &amp; Innovation Lab
REFRESH-INTERVAL;VALUE=DURATION:PT1H
X-Robots-Tag:noindex
X-PUBLISHED-TTL:PT1H
BEGIN:VTIMEZONE
TZID:UTC
BEGIN:STANDARD
TZOFFSETFROM:+0000
TZOFFSETTO:+0000
TZNAME:UTC
DTSTART:20230101T000000
END:STANDARD
END:VTIMEZONE
BEGIN:VEVENT
DTSTART;TZID=UTC:20241203T090000
DTEND;TZID=UTC:20241203T100000
DTSTAMP:20260420T034347
CREATED:20260106T064135Z
LAST-MODIFIED:20260113T030058Z
UID:3187-1733216400-1733220000@competitioninnovationlab.ai
SUMMARY:Legal Standards in Excessive Pricing: Reflecting on the Old and Making Sense of the New
DESCRIPTION:This webinar series seeks to explore the Competition Amendment Act (2019)’s introduction of new legal standards applicable for the evaluation of prohibited practices and merges. This webinar focuses on the legal standards applicable to excessive pricing enforcement.  Where the Competition Commission of South Africa has had little success at prosecuting excessive pricing cases prior to amendment\, since then – combined with the Covid-19 pandemic necessitating the utilization of price gouging under the rubric of excessive prices – South Africa has seen an increase in the number of these cases initiated and a higher rate of prosecutorial success.
URL:https://competitioninnovationlab.ai/event/legal-standards-in-excessive-pricing-reflecting-on-the-old-and-making-sense-of-the-new/
LOCATION:University Student Center\, 800 21st Street\, NW\, Room 405\, NW\, 20052\, United States
ATTACH;FMTTYPE=image/png:https://competitioninnovationlab.ai/wp-content/uploads/2026/01/Screenshot-2026-01-12-at-10.00.15-PM.png
END:VEVENT
END:VCALENDAR