BEGIN:VCALENDAR
VERSION:2.0
PRODID:-//Competition &amp; Innovation Lab - ECPv6.15.15//NONSGML v1.0//EN
CALSCALE:GREGORIAN
METHOD:PUBLISH
X-WR-CALNAME:Competition &amp; Innovation Lab
X-ORIGINAL-URL:https://competitioninnovationlab.ai
X-WR-CALDESC:Events for Competition &amp; Innovation Lab
REFRESH-INTERVAL;VALUE=DURATION:PT1H
X-Robots-Tag:noindex
X-PUBLISHED-TTL:PT1H
BEGIN:VTIMEZONE
TZID:UTC
BEGIN:STANDARD
TZOFFSETFROM:+0000
TZOFFSETTO:+0000
TZNAME:UTC
DTSTART:20240101T000000
END:STANDARD
END:VTIMEZONE
BEGIN:VEVENT
DTSTART;TZID=UTC:20251113T140000
DTEND;TZID=UTC:20251113T160000
DTSTAMP:20260419T222144
CREATED:20260106T064135Z
LAST-MODIFIED:20260114T183032Z
UID:3550-1763042400-1763049600@competitioninnovationlab.ai
SUMMARY:The Future of European Competitiveness
DESCRIPTION:Professor Philippe Aghion\, Chair at the College de France and Senior Fellow of the GW Competition & Innovation Lab\, moderated a debate between French President Emmanuel Macron and Mario Draghi\, former President of the European Central Bank\, following the publication of the Draghi Report.  \nOn Wednesday\, Mario Draghi\, former President of the European Central Bank\, and French President Emmanuel Macron delivered a crucial message to the EU\, warning of the urgent need for Europe to strengthen its economic independence. Speaking in an hour-long conversation at the esteemed Collège de France in Paris\, Draghi and Macron underscored the importance of proactive EU preparation to navigate an anticipated second wave of global trade tensions. \nAddressing the possibility of a renewed trade conflict involving the United States and China\, the leaders emphasized the risk that Europe could be drawn in as an unintended victim if it remains unprepared. Their message was clear: Europe must stand resilient and strategically self-sufficient to withstand the ripple effects of shifting global trade dynamics\, ensuring the EU’s economic stability and influence on the world stage. \nPolitico covered the roundtable here. 
URL:https://competitioninnovationlab.ai/event/the-future-of-european-competitiveness/
LOCATION:The George Washington University\, Jack Morton Auditorium\, 805 21st St.\, NW\, WA\, 20052\, United States
ATTACH;FMTTYPE=image/jpeg:https://competitioninnovationlab.ai/wp-content/uploads/2026/01/adobestock_394781421_1-1-scaled.jpeg
END:VEVENT
END:VCALENDAR