BEGIN:VCALENDAR
VERSION:2.0
PRODID:-//Competition &amp; Innovation Lab - ECPv6.15.15//NONSGML v1.0//EN
CALSCALE:GREGORIAN
METHOD:PUBLISH
X-WR-CALNAME:Competition &amp; Innovation Lab
X-ORIGINAL-URL:https://competitioninnovationlab.ai
X-WR-CALDESC:Events for Competition &amp; Innovation Lab
REFRESH-INTERVAL;VALUE=DURATION:PT1H
X-Robots-Tag:noindex
X-PUBLISHED-TTL:PT1H
BEGIN:VTIMEZONE
TZID:UTC
BEGIN:STANDARD
TZOFFSETFROM:+0000
TZOFFSETTO:+0000
TZNAME:UTC
DTSTART:20240101T000000
END:STANDARD
END:VTIMEZONE
BEGIN:VEVENT
DTSTART;TZID=UTC:20250604T120000
DTEND;TZID=UTC:20250604T235900
DTSTAMP:20260419T163407
CREATED:20260106T064135Z
LAST-MODIFIED:20260113T194557Z
UID:3486-1749038400-1749081540@competitioninnovationlab.ai
SUMMARY:The GW-Milbank Antitrust Salon - Summer 2025
DESCRIPTION:Following the first salon in Winter 2025\, The GW Competition & Innovation Lab and Milbank LLP hosted the successful Antitrust Conference on Wednesday\, June 4. \n			\n				\n				\n				\n				\n				\n				\n			\n				\n				\n				\n				\n				The major implications that recent changes in political leadership\, trade policy\, and international relations will have on antitrust enforcement globally were discussed by speakers including Melissa Holyoak\, Commissioner of the US FTC\, Olivier Guersent\, Director-General for Competition of the European Commission\, and Bill Rinner\, Deputy Assistant Attorney General for the DOJ’s Antitrust Division. 
URL:https://competitioninnovationlab.ai/event/the-gw-milbank-antitrust-salon-summer-2025/
LOCATION:University Student Center\, 800 21st Street\, NW\, Room 405\, NW\, 20052\, United States
ATTACH;FMTTYPE=image/jpeg:https://competitioninnovationlab.ai/wp-content/uploads/2026/01/gwcil_154_0-scaled.jpg
END:VEVENT
END:VCALENDAR