BEGIN:VCALENDAR
VERSION:2.0
PRODID:-//Competition &amp; Innovation Lab - ECPv6.15.15//NONSGML v1.0//EN
CALSCALE:GREGORIAN
METHOD:PUBLISH
X-ORIGINAL-URL:https://competitioninnovationlab.ai
X-WR-CALDESC:Events for Competition &amp; Innovation Lab
REFRESH-INTERVAL;VALUE=DURATION:PT1H
X-Robots-Tag:noindex
X-PUBLISHED-TTL:PT1H
BEGIN:VTIMEZONE
TZID:UTC
BEGIN:STANDARD
TZOFFSETFROM:+0000
TZOFFSETTO:+0000
TZNAME:UTC
DTSTART:20240101T000000
END:STANDARD
END:VTIMEZONE
BEGIN:VEVENT
DTSTART;TZID=UTC:20250204T073000
DTEND;TZID=UTC:20250204T120000
DTSTAMP:20260421T101211
CREATED:20260106T064135Z
LAST-MODIFIED:20260114T214456Z
UID:3671-1738654200-1738670400@competitioninnovationlab.ai
SUMMARY:Reflexiones Sobre Competencia Economica
DESCRIPTION:El evento comenzará con una conferencia magistral impartida por William Kovacic\, reconocido académico y experto en competencia económica de la Universidad George Washington\, quien abordará las claves para el fortalecimiento institucional en materia antimonopolio. \nA continuación\, se llevarán a cabo dos paneles de discusión que reunirán a especialistas de alto nivel\, tanto nacionales como internacionales. El primer panel se enfocará en el diseño institucional de una nueva agencia antimonopolio en México\, analizando los desafíos y oportunidades para establecer una entidad efectiva y alineada con las mejores prácticas globales. \nEl segundo panel abordará las tendencias globales en las agencias de competencia económica\, examinando cómo las principales jurisdicciones están adaptando sus estrategias y estructuras ante los cambios tecnológicos y económicos actuales. Estos intercambios buscarán identificar lecciones clave para fortalecer la política de competencia en México y el mundo.
URL:https://competitioninnovationlab.ai/event/reflexiones-sobre-competencia-economica/
LOCATION:The George Washington University\, Jack Morton Auditorium\, 805 21st St.\, NW\, WA\, 20052\, United States
ATTACH;FMTTYPE=image/jpeg:https://competitioninnovationlab.ai/wp-content/uploads/2026/01/mexico_copy.jpg
END:VEVENT
BEGIN:VEVENT
DTSTART;TZID=UTC:20250213T120000
DTEND;TZID=UTC:20250213T235900
DTSTAMP:20260421T101211
CREATED:20260106T064135Z
LAST-MODIFIED:20260113T200210Z
UID:3521-1739448000-1739491140@competitioninnovationlab.ai
SUMMARY:Stakeholder Workshop: Draft Article 102 TFEU Guidelines on Exclusionary Abuses
DESCRIPTION:On 1 August 2024 the Commission launched a consultation of interested parties to comment on draft Guidelines on exclusionary abuses of dominance. The draft Guidelines aim at reflecting the EU courts’ case law on exclusionary abuses and the Commission’s enforcement practice developed in line with it. \nThe objectives of the initiative are (1) to provide more clarity to stakeholders on how to apply Article 102 TFEU; (2) to facilitate self-assessment and increase predictability; and (3) to promote a workable effects-based approach to the enforcement of Article 102 TFEU. \nIn this context\, DG Competition is organizing an interactive stakeholder workshop to gather views on different key aspects of the draft Guidelines and discuss the practical implications of their application. Participants will be divided into groups to discuss various topics in eight breakout sessions. The results will be presented and discussed in two plenary sessions.  \n			\n				\n				\n				\n				\n				\n					\n					\n						Miroslava Marinova\n						Our Senior Fellow Miroslava Marinova is invited to speak at the European Commission’s Stakeholder Workshop to share her views on the reform of Article 102 TFEU.  \n					\n				\n			\n				Workshop Agenda
URL:https://competitioninnovationlab.ai/event/stakeholder-workshop-draft-article-102-tfeu-guidelines-on-exclusionary-abuses/
LOCATION:University Student Center\, 800 21st Street\, NW\, Room 405\, NW\, 20052\, United States
ATTACH;FMTTYPE=image/jpeg:https://competitioninnovationlab.ai/wp-content/uploads/2026/01/workshop.jpg
END:VEVENT
BEGIN:VEVENT
DTSTART;TZID=UTC:20250218T100000
DTEND;TZID=UTC:20250218T110000
DTSTAMP:20260421T101211
CREATED:20260106T064135Z
LAST-MODIFIED:20260113T182851Z
UID:3388-1739872800-1739876400@competitioninnovationlab.ai
SUMMARY:Regulating Digital Platforms in Brazil: Where We Are
DESCRIPTION:In light of the recent Ministry of Justice report exploring a potential Digital Markets Act (DMA)-like framework for Brazil\, the regulatory landscape for digital platforms is at a critical juncture. This panel will delve into the challenges and opportunities of implementing such regulations\, focusing on competition\, innovation\, and consumer protection in the digital economy. \nKey topics of discussion will include: \n\nThe current state of platform regulation in Brazil and lessons from global frameworks like the EU’s DMA and the US policy debates.\nThe economic and legal implications of introducing ex-ante obligations for dominant platforms.\nHow such regulations could foster innovation while maintaining a competitive marketplace.\nPerspectives from policymakers\, legal experts\, and industry leaders on Brazil’s path toward a robust digital competition policy.
URL:https://competitioninnovationlab.ai/event/regulating-digital-platforms-in-brazil-where-we-are/
LOCATION:Media and Public Affairs Building\, VENUE AND LOCATION TBA SOON\, 20052\, United States
END:VEVENT
BEGIN:VEVENT
DTSTART;TZID=UTC:20250228T084500
DTEND;TZID=UTC:20250228T214500
DTSTAMP:20260421T101211
CREATED:20260106T064135Z
LAST-MODIFIED:20260113T195429Z
UID:3517-1740732300-1740779100@competitioninnovationlab.ai
SUMMARY:Beyond the Draghi Report: Competition Law in the Age of Industrial Policy
DESCRIPTION:Competition law and industrial policy both aim to foster economic growth and development\, yet their interaction can either complement or conflict with one another. As new challenges emerge\, driven by digitalization\, sustainable development\, and the global economic downturn\, the relationship between these policies warrants a thorough review. The Draghi Report calls for a reassessment of competition policy enforcement in light of industrial policy imperatives. \nThis session will explore how competition and industrial policies intersect\, identifying both synergies and tensions in today’s evolving economic landscape. The discussion will highlight the growing need for cooperation between these two policy areas and offer policy recommendations to enhance their productive interaction.
URL:https://competitioninnovationlab.ai/event/beyond-the-draghi-report-competition-law-in-the-age-of-industrial-policy/
LOCATION:University Student Center\, 800 21st Street\, NW\, Room 405\, NW\, 20052\, United States
END:VEVENT
END:VCALENDAR