BEGIN:VCALENDAR
VERSION:2.0
PRODID:-//Competition &amp; Innovation Lab - ECPv6.15.15//NONSGML v1.0//EN
CALSCALE:GREGORIAN
METHOD:PUBLISH
X-ORIGINAL-URL:https://competitioninnovationlab.ai
X-WR-CALDESC:Events for Competition &amp; Innovation Lab
REFRESH-INTERVAL;VALUE=DURATION:PT1H
X-Robots-Tag:noindex
X-PUBLISHED-TTL:PT1H
BEGIN:VTIMEZONE
TZID:UTC
BEGIN:STANDARD
TZOFFSETFROM:+0000
TZOFFSETTO:+0000
TZNAME:UTC
DTSTART:20240101T000000
END:STANDARD
END:VTIMEZONE
BEGIN:VEVENT
DTSTART;TZID=UTC:20250516T080000
DTEND;TZID=UTC:20260516T090000
DTSTAMP:20260420T122812
CREATED:20260106T064135Z
LAST-MODIFIED:20260114T215326Z
UID:3692-1747382400-1778922000@competitioninnovationlab.ai
SUMMARY:Análisis del Dictamen Preliminar de la COFECE sobre el Mercado de Comercio Electrónico en México
DESCRIPTION:Analysis of Mexico’s Federal Commission of Economic Competition’s (COFECE) Preliminary Report on the Retail E-Commerce Market in Mexico\n			\n				\n				\n				\n				\n				La Autoridad Investigadora de la Comisión Federal de Competencia Económica de México (COFECE) publicó\, a principios de este año\, un Dictamen Preliminar sobre sus hallazgos tras el análisis de potenciales barreras de entrada a la libre competencia en el mercado minorista de comercio electrónico. Esta investigación se basa en el artículo 94 de la Ley Federal de Competencia Económica de México\, que permite imponer medidas regulatorias para abordar problemas estructurales sin imponer sanciones económicas a los agentes. \nLe extendemos una cordial invitación a asistir a este panel en el que se analizará exhaustivamente estos hallazgos\, las medidas sugeridas por la Autoridad Investigadora y el proceso mediante el cual México puede imponer este tipo de medidas.  \nConsulta el folleto arriba para obtener más información. Puedes inscribirte al evento online en el siguiente enlace: https://lnkd.in/eKVCjd83. Los esperamos.
URL:https://competitioninnovationlab.ai/event/analisis-del-dictamen-preliminar-de-la-cofece-sobre-el-mercado-de-comercio-electronico-en-mexico/
LOCATION:The George Washington University\, Jack Morton Auditorium\, 805 21st St.\, NW\, WA\, 20052\, United States
END:VEVENT
BEGIN:VEVENT
DTSTART;VALUE=DATE:20250716
DTEND;VALUE=DATE:20251119
DTSTAMP:20260420T122812
CREATED:20260106T064135Z
LAST-MODIFIED:20260114T222932Z
UID:3699-1752624000-1763510399@competitioninnovationlab.ai
SUMMARY:The Rivalry Podcast
DESCRIPTION:Introducing RIVALRY\, the exciting new podcast from the GW Competition & Innovation Lab! Dive into the world of antitrust matters\, competition\, and regulatory challenges as we bring you insightful conversations with leading innovators\, entrepreneurs\, and top regulators. Learn how rivals compete through innovation\, who are their actual or potential rivals\, and what is means from a regulatory perspective. \nWhether you’re an industry expert or simply curious about the dynamic landscape of competition and innovation\, RIVALRY offers a unique platform to hear from the voices shaping the future. \nTune in for thought-provoking discussions and stay ahead of the curve with the latest insights from the best in the field. \n			\n				\n				\n				\n				\n				EPISODE 4: chad kim\nCompetition within the National Security contracting space\, the importance of strong and reactive team\, and chad’s advice to young entrepreneurs \n  \n			\n				\n				\n				\n				\n				\n				\n			\n				\n				\n				\n				\n				EPISODE 3 : jorge padilla\nJorge’s storied career\, anti-expert bias worldwide\, the future of antitrust\, the importance of analogies\, and thinking both fast and slow \n			\n				\n				\n				\n				\n				\n				\n			\n				\n				\n				\n				\n				EPISODE 2 : FRederic jenny\nWorld antitrust\, THE OECD\, THE WORLD TRADE ORGANIZATION\, THE DIGITAL MARKETS ACT \nand the future of antitrust economics \n			\n				\n				\n				\n				\n				\n				\n			\n				\n				\n				\n				\n				Episode 1 : Olivier Guersent  \nAntitrust\, Tech Giants and the Digital Markets Act
URL:https://competitioninnovationlab.ai/event/the-rivalry-podcast/
LOCATION:The George Washington University\, Jack Morton Auditorium\, 805 21st St.\, NW\, WA\, 20052\, United States
CATEGORIES:Signature Events
ATTACH;FMTTYPE=image/png:https://competitioninnovationlab.ai/wp-content/uploads/2026/01/rivalry_0.png
END:VEVENT
BEGIN:VEVENT
DTSTART;TZID=UTC:20251107T090000
DTEND;TZID=UTC:20251107T180000
DTSTAMP:20260420T122812
CREATED:20260106T064135Z
LAST-MODIFIED:20260115T061207Z
UID:3221-1762506000-1762538400@competitioninnovationlab.ai
SUMMARY:Next-Generation Regulation: Competition Law in the Digital\, Intelligent\, & Sustainable Economy
DESCRIPTION:In an era defined by digital transformation\, environmental urgency\, innovation and artificial intelligence\, competition law faces unprecedented challenges. This one-day international conference\, co-organized by the GW Competition & Innovation Lab and the Bogazici University Innovation and Competition Based Development Studies Research Center\, brought together academics\, practitioners\, regulators\, and private sector representatives to explore how competition policy must adapt to safeguard innovation\, sustainability\, and market fairness. Sessions focused on digital markets\, AI enforcement\, and green cooperation\, and they drew from recent decisions by the TCA\, EC and global regulatory developments. The event fostered dialogue on the practical design of next-generation regulation that balances economic efficiency with societal values. \n			\n				\n					\n					\n					\n				\n				\n					\n					\n					\n				\n				\n					\n					\n					\n				\n				\n					\n					\n					\n				\n				\n					\n					\n					\n				\n				\n			\n				\n				\n				\n				\n			\n				\n				\n				\n				\n				\n				\n				\n				\n				\n				\n				Agenda\n			\n				\n				\n				\n				\n				\n\n\nTime\nSession\n\n\n\n\n9:00 AM\nRegistration and Welcome Coffee\n\n\n9:30 AM\n\nWelcoming RemarksDr. Asli Helvacioglu (Bogazici University) \nDr. Hanna Stakheyeva (GW Competition & Innovation Lab) \nProfessor Aurelien Portuese (George Washington University) \n\n\n\n10:00 AM\n\nOpening Keynote – “The Future of Competition Law in a Rapidly Changing Global Order \nAntonio Capobianco (Deputy Head of the Competition Division\, OECD)\n\n\n10:30 AM\n\nSession 1: Competition in the Digital Economy Moderator: Dr. Asli Helvacioglu (Bogazici University) \n\nFeatured speech: “Platform Power and Digital Regulation: Global Lessons\, Local Realities” by Esin Aygun (Turkish Competition Authority)\nPanelists: Dr Zeynep Ayata (Istanbul Policy Center/Sabanci University)\, Selcuk Yilmaz (TCA)\, Can Saricicek (ACTECON)\, Natasha Afinogenova (Google)\, Cavit Yantac (Microsoft)\n\n\n\n\n12:00 PM\nCoffee Break\n\n\n12:15 PM\n\nSession 2: From Algorithms to Accountability: Navigating AI’s Impact on Competition Law \n\n\n\n\n\nModerator: Dr. Kerem Cem Sanli\, Bilgi University\nPanelists: Dr. Christian Bergqvist (University of Copenhagen)\, Elena Ponte (Federal Trade Commission)\, Dr. Philipp Roos (Freshfields)\, Sencer Ecer (Compass Lexecon)\n\n\n\n\n\n\n\n\n1:15 PM\nLunch Break\n\n\n2:15 PM\n\nSession 3: Sustainability in the Shadow of the Competition Policy \n\n\n\n\n\nModerator: Dr. Muzaffer Eroglu (Bogazici University)\nPanelists: Dr. Julian Nowag (Lund University/University of Hong Kong)\, Dr. Hanna Stakheyeva (The GW Competition & Innovation Lab)\, Elif Acelya Balki (Migros Group)\, Ramazan Ertas (Nakkas Holding)\n\n\n\n\n\n\n\n\n3:15 PM\n\nSession 4: Green Claims Under Scrutiny: Tackling Deception in the Market \n\nModerator: Dr. Eda Sahin (Bath Spa University)\nPanelists: Hande Karakulah (L’Oreal)\, Sezin Turan (RE&UP Recycling Technologies)\, A. Deniz Altınay\, Pekin Bayar Mizrahi (in alliance with Norton Rose Fulbright)\, Meltem Bağış Akkaya (TCA)\n\n\n\n\n4:15 PM\nCoffee Break\n\n\n4:30 PM\n\nClosing Session – Competition Law 2030: Strategic Outlook \n\nModerator: Dr. Fevzi Toksoy (ACTECON)\nPanelists: Dr. Mathew Heim (The GW Competition & Innovation Lab)\, Müge Bulat Çetinkaya (Borusan Boru)\, Prof. Aurelien Portuese (The George Washington University)\, Dr. Asli Helvacioglu (Bogazici University)\n\n\n\n\n5:15 PM\n\nClosing Keynote: “Resilient Markets\, Empowered Consumers: A New Vision for Competition”\nTeresa Moreira (UNCTAD) \n\n\n\n5:45 PM\nClosing Reflections\n\n\n\n 
URL:https://competitioninnovationlab.ai/event/next-generation-regulation-competition-law-in-the-digital-intelligent-sustainable-economy/
LOCATION:University Student Center\, 800 21st Street\, NW\, Room 405\, NW\, 20052\, United States
CATEGORIES:AI Policy & Regulation,Competition Law & Economics,Data, Trade & National Security,Intellectual Property Rights
ATTACH;FMTTYPE=image/jpeg:https://competitioninnovationlab.ai/wp-content/uploads/2026/01/dsc08754-1-scaled.jpg
END:VEVENT
END:VCALENDAR